BEGIN:VCALENDAR
VERSION:2.0
PRODID:-//Le Club Entrepreneurs 92 dans le sud des Hauts de Seine - réseau de dirigeants et événements d&#039;entreprises - ECPv6.8.3//NONSGML v1.0//EN
CALSCALE:GREGORIAN
METHOD:PUBLISH
X-ORIGINAL-URL:https://www.club-entrepreneurs92.fr
X-WR-CALDESC:Évènements pour Le Club Entrepreneurs 92 dans le sud des Hauts de Seine - réseau de dirigeants et événements d&#039;entreprises
REFRESH-INTERVAL;VALUE=DURATION:PT1H
X-Robots-Tag:noindex
X-PUBLISHED-TTL:PT1H
BEGIN:VTIMEZONE
TZID:Europe/Paris
BEGIN:DAYLIGHT
TZOFFSETFROM:+0100
TZOFFSETTO:+0200
TZNAME:CEST
DTSTART:20220327T010000
END:DAYLIGHT
BEGIN:STANDARD
TZOFFSETFROM:+0200
TZOFFSETTO:+0100
TZNAME:CET
DTSTART:20221030T010000
END:STANDARD
END:VTIMEZONE
BEGIN:VEVENT
DTSTART;TZID=Europe/Paris:20220119T183000
DTEND;TZID=Europe/Paris:20220119T193000
DTSTAMP:20260424T060842
CREATED:20220117T092348Z
LAST-MODIFIED:20220117T092856Z
UID:11625-1642617000-1642620600@www.club-entrepreneurs92.fr
SUMMARY:Web Atelier des Experts - Pôle S&P - #3
DESCRIPTION:Des réponses à vos questions sur…. le budget prévisionnel.\nNouveau format interactif\, le Web Atelier des Experts\, organisé par les Pôles d’Expertises du Club. \nFranck Herbault et José Rodrigues\, membres du Pôle Stratégie et Performance\, vont animer ce premier atelier faisant écho à la soirée du Pôle\, au cours de laquelle ils vous ont présenté comment et pourquoi l’exercice du budget prévisionnel est fondamental pour vos entreprises. \nDurant ce rendez-vous interactif\, vous pourrez poser toutes vos questions et échanger directement avec nos deux experts. \nMerci de nous envoyer vos questions en amont par mail :\nevenements@club-entrepreneurs92.fr\n  \n>>> Inscription obligatoire >>>
URL:https://www.club-entrepreneurs92.fr/evenement/web-atelier-des-experts-pole-sp-3/
CATEGORIES:Atelier,Webinaire
ATTACH;FMTTYPE=image/jpeg:https://www.club-entrepreneurs92.fr/wordpress/wp-content/uploads/2022/01/Invitation-POLE-SP_19-01-2022.jpg
END:VEVENT
END:VCALENDAR