BEGIN:VCALENDAR
VERSION:2.0
PRODID:-//Le Club Entrepreneurs 92 dans le sud des Hauts de Seine - réseau de dirigeants et événements d&#039;entreprises - ECPv6.8.3//NONSGML v1.0//EN
CALSCALE:GREGORIAN
METHOD:PUBLISH
X-WR-CALNAME:Le Club Entrepreneurs 92 dans le sud des Hauts de Seine - réseau de dirigeants et événements d&#039;entreprises
X-ORIGINAL-URL:https://www.club-entrepreneurs92.fr
X-WR-CALDESC:Évènements pour Le Club Entrepreneurs 92 dans le sud des Hauts de Seine - réseau de dirigeants et événements d&#039;entreprises
REFRESH-INTERVAL;VALUE=DURATION:PT1H
X-Robots-Tag:noindex
X-PUBLISHED-TTL:PT1H
BEGIN:VTIMEZONE
TZID:Europe/Paris
BEGIN:DAYLIGHT
TZOFFSETFROM:+0100
TZOFFSETTO:+0200
TZNAME:CEST
DTSTART:20220327T010000
END:DAYLIGHT
BEGIN:STANDARD
TZOFFSETFROM:+0200
TZOFFSETTO:+0100
TZNAME:CET
DTSTART:20221030T010000
END:STANDARD
END:VTIMEZONE
BEGIN:VEVENT
DTSTART;TZID=Europe/Paris:20220629T190000
DTEND;TZID=Europe/Paris:20220629T230000
DTSTAMP:20260425T233221
CREATED:20220610T084616Z
LAST-MODIFIED:20220610T084850Z
UID:12589-1656529200-1656543600@www.club-entrepreneurs92.fr
SUMMARY:Le Grand Interclubs Estival - 29-06-2022
DESCRIPTION:Mercredi 29 juin 2022\nLe Club des Entrepreneurs Jouy-Versailles Grand Parc\net le Club Entrepreneurs 92 ont le plaisir de vous inviter à les rejoindre dans le cadre enchanteur du Golf de la Boulie (RCF) pour partager ce nouveau Grand INTERCLUBS Estival.\nCette rencontre s’inscrit dans la continuité des échanges établis entre  les deux clubs depuis 2014\, et avec la présence de 5 autres Clubs et réseaux partenaires (Challenger Club\, Convergences Smart City\, les Medef Hauts-de-Seine et Medef Yvelines\, Club Val de Bièvre Entreprises). \nRenseignements et inscription >>>
URL:https://www.club-entrepreneurs92.fr/evenement/le-grand-interclubs-estival-29-06-2022/
LOCATION:Restaurant du Golf de la Boulie\, Rue du Pont Colbert\, Jouy-en-Josas\, 78350
CATEGORIES:Evénement Club 2022,Interclubs
ATTACH;FMTTYPE=image/jpeg:https://www.club-entrepreneurs92.fr/wordpress/wp-content/uploads/2022/06/Invitation-Interclubs_29-06-2022.jpg
END:VEVENT
END:VCALENDAR